BEGIN:VCALENDAR
VERSION:2.0
PRODID:-//Rufo - ECPv6.15.7//NONSGML v1.0//EN
CALSCALE:GREGORIAN
METHOD:PUBLISH
X-ORIGINAL-URL:https://reichenhaller-unternehmerforum.de
X-WR-CALDESC:Veranstaltungen für Rufo
REFRESH-INTERVAL;VALUE=DURATION:PT1H
X-Robots-Tag:noindex
X-PUBLISHED-TTL:PT1H
BEGIN:VTIMEZONE
TZID:Europe/Berlin
BEGIN:DAYLIGHT
TZOFFSETFROM:+0100
TZOFFSETTO:+0200
TZNAME:CEST
DTSTART:20230326T010000
END:DAYLIGHT
BEGIN:STANDARD
TZOFFSETFROM:+0200
TZOFFSETTO:+0100
TZNAME:CET
DTSTART:20231029T010000
END:STANDARD
BEGIN:DAYLIGHT
TZOFFSETFROM:+0100
TZOFFSETTO:+0200
TZNAME:CEST
DTSTART:20240331T010000
END:DAYLIGHT
BEGIN:STANDARD
TZOFFSETFROM:+0200
TZOFFSETTO:+0100
TZNAME:CET
DTSTART:20241027T010000
END:STANDARD
BEGIN:DAYLIGHT
TZOFFSETFROM:+0100
TZOFFSETTO:+0200
TZNAME:CEST
DTSTART:20250330T010000
END:DAYLIGHT
BEGIN:STANDARD
TZOFFSETFROM:+0200
TZOFFSETTO:+0100
TZNAME:CET
DTSTART:20251026T010000
END:STANDARD
END:VTIMEZONE
BEGIN:VEVENT
DTSTART;TZID=Europe/Berlin:20241028T183000
DTEND;TZID=Europe/Berlin:20241028T190000
DTSTAMP:20260424T204006
CREATED:20240624T105422Z
LAST-MODIFIED:20240624T105422Z
UID:4455-1730140200-1730142000@reichenhaller-unternehmerforum.de
SUMMARY:Hauptausschuss
DESCRIPTION:Jedes Hauptausschuss-Mitglied ist herzlich Willkommen. Wir freuen uns über Euer zahlreiches kommen!
URL:https://reichenhaller-unternehmerforum.de/event/hauptausschuss-10/
LOCATION:Hotel Erika\, Adolf-Schmid-Straße 3\, Bad Reichenhall\, 83435\, Deutschland
END:VEVENT
BEGIN:VEVENT
DTSTART;TZID=Europe/Berlin:20241029T163000
DTEND;TZID=Europe/Berlin:20241029T170000
DTSTAMP:20260424T204006
CREATED:20241012T122825Z
LAST-MODIFIED:20241012T122825Z
UID:4596-1730219400-1730221200@reichenhaller-unternehmerforum.de
SUMMARY:Fachgruppe Tourismus - Vortrag Polizei Rhall
DESCRIPTION:Da wir als Gastgeber immer wieder einmal in die Situation kommen\, mit bestimmten Personen umzugehen\, ist es\nnötig\, sich bzgl. Rechte und Verantwortlichkeiten etwas bescheid zu wissen. \nAus diesem Grund bekommen wir einen Vortrag mit anschließender Frage und Antwort-Runde. \nJedes Mitglied der Fachgruppe Tourismus ist herzlich Willkommen. Wir freuen uns über Euer zahlreiches kommen!
URL:https://reichenhaller-unternehmerforum.de/event/fachgruppe-tourismus-vortrag-polizei-rhall/
LOCATION:AVALON Hotel\, Bahnhofplatz 14\, Bad Reichenhall\, 83435\, Deutschland
END:VEVENT
BEGIN:VEVENT
DTSTART;TZID=Europe/Berlin:20241030T163000
DTEND;TZID=Europe/Berlin:20241030T170000
DTSTAMP:20260424T204006
CREATED:20240929T155410Z
LAST-MODIFIED:20241012T122909Z
UID:4563-1730305800-1730307600@reichenhaller-unternehmerforum.de
SUMMARY:Fachgruppe Tourismus - Gastkarte+
DESCRIPTION:Heute gibt es einen aktualisierten und detaillierten Vortrag bezgl. der Gastkarte+ \nJedes Mitglied der Fachgruppe Tourismus ist herzlich Willkommen. Wir freuen uns über Euer zahlreiches kommen!
URL:https://reichenhaller-unternehmerforum.de/event/fachgruppe-tourismus-10/
LOCATION:AVALON Hotel\, Bahnhofplatz 14\, Bad Reichenhall\, 83435\, Deutschland
END:VEVENT
END:VCALENDAR