BEGIN:VCALENDAR
VERSION:2.0
PRODID:-//Rufo - ECPv6.15.7//NONSGML v1.0//EN
CALSCALE:GREGORIAN
METHOD:PUBLISH
X-ORIGINAL-URL:https://reichenhaller-unternehmerforum.de
X-WR-CALDESC:Veranstaltungen für Rufo
REFRESH-INTERVAL;VALUE=DURATION:PT1H
X-Robots-Tag:noindex
X-PUBLISHED-TTL:PT1H
BEGIN:VTIMEZONE
TZID:Europe/Berlin
BEGIN:DAYLIGHT
TZOFFSETFROM:+0100
TZOFFSETTO:+0200
TZNAME:CEST
DTSTART:20230326T010000
END:DAYLIGHT
BEGIN:STANDARD
TZOFFSETFROM:+0200
TZOFFSETTO:+0100
TZNAME:CET
DTSTART:20231029T010000
END:STANDARD
BEGIN:DAYLIGHT
TZOFFSETFROM:+0100
TZOFFSETTO:+0200
TZNAME:CEST
DTSTART:20240331T010000
END:DAYLIGHT
BEGIN:STANDARD
TZOFFSETFROM:+0200
TZOFFSETTO:+0100
TZNAME:CET
DTSTART:20241027T010000
END:STANDARD
BEGIN:DAYLIGHT
TZOFFSETFROM:+0100
TZOFFSETTO:+0200
TZNAME:CEST
DTSTART:20250330T010000
END:DAYLIGHT
BEGIN:STANDARD
TZOFFSETFROM:+0200
TZOFFSETTO:+0100
TZNAME:CET
DTSTART:20251026T010000
END:STANDARD
END:VTIMEZONE
BEGIN:VEVENT
DTSTART;TZID=Europe/Berlin:20240701T090000
DTEND;TZID=Europe/Berlin:20240701T120000
DTSTAMP:20260420T092805
CREATED:20240624T105922Z
LAST-MODIFIED:20240624T105922Z
UID:4463-1719824400-1719835200@reichenhaller-unternehmerforum.de
SUMMARY:Gastkarte+
DESCRIPTION:Die Firma Wiif aus Oberstaufen (https://www.wiif.com/) kommt zum nächsten Treffen nach Bad Reichenhall. \nDie Ausarbeitung des Konzepts geht weiter. \nNur geladene Gäste sind Teilnehmer.
URL:https://reichenhaller-unternehmerforum.de/event/gastkarte/
LOCATION:Touristinfo Bad Reichenhall
END:VEVENT
BEGIN:VEVENT
DTSTART;TZID=Europe/Berlin:20240711T183000
DTEND;TZID=Europe/Berlin:20240711T190000
DTSTAMP:20260420T092805
CREATED:20231030T165749Z
LAST-MODIFIED:20231130T172626Z
UID:3767-1720722600-1720724400@reichenhaller-unternehmerforum.de
SUMMARY:Fachgruppe Handel
DESCRIPTION:Jedes Mitglied der Fachgruppe Handel ist herzlich Willkommen. Wir freuen uns über Euer zahlreiches kommen!
URL:https://reichenhaller-unternehmerforum.de/event/fachgruppe-handel-9/
LOCATION:AVALON Hotel\, Bahnhofplatz 14\, Bad Reichenhall\, 83435\, Deutschland
END:VEVENT
BEGIN:VEVENT
DTSTART;TZID=Europe/Berlin:20240729T183000
DTEND;TZID=Europe/Berlin:20240729T190000
DTSTAMP:20260420T092805
CREATED:20240624T105328Z
LAST-MODIFIED:20240624T105328Z
UID:4451-1722277800-1722279600@reichenhaller-unternehmerforum.de
SUMMARY:Hauptausschuss
DESCRIPTION:Jedes Hauptausschuss-Mitglied ist herzlich Willkommen. Wir freuen uns über Euer zahlreiches kommen!
URL:https://reichenhaller-unternehmerforum.de/event/hauptausschuss-8/
LOCATION:Hotel Erika\, Adolf-Schmid-Straße 3\, Bad Reichenhall\, 83435\, Deutschland
END:VEVENT
BEGIN:VEVENT
DTSTART;TZID=Europe/Berlin:20240731T163000
DTEND;TZID=Europe/Berlin:20240731T170000
DTSTAMP:20260420T092805
CREATED:20240624T105529Z
LAST-MODIFIED:20240624T105529Z
UID:4459-1722443400-1722445200@reichenhaller-unternehmerforum.de
SUMMARY:Fachgruppe Tourismus
DESCRIPTION:Jedes Mitglied der Fachgruppe Tourismus ist herzlich Willkommen. Wir freuen uns über Euer zahlreiches kommen! \n 
URL:https://reichenhaller-unternehmerforum.de/event/fachgruppe-tourismus-8/
LOCATION:AVALON Hotel\, Bahnhofplatz 14\, Bad Reichenhall\, 83435\, Deutschland
END:VEVENT
END:VCALENDAR