BEGIN:VCALENDAR
VERSION:2.0
PRODID:-//Rufo - ECPv6.15.7//NONSGML v1.0//EN
CALSCALE:GREGORIAN
METHOD:PUBLISH
X-ORIGINAL-URL:https://reichenhaller-unternehmerforum.de
X-WR-CALDESC:Veranstaltungen für Rufo
REFRESH-INTERVAL;VALUE=DURATION:PT1H
X-Robots-Tag:noindex
X-PUBLISHED-TTL:PT1H
BEGIN:VTIMEZONE
TZID:Europe/Berlin
BEGIN:DAYLIGHT
TZOFFSETFROM:+0100
TZOFFSETTO:+0200
TZNAME:CEST
DTSTART:20230326T010000
END:DAYLIGHT
BEGIN:STANDARD
TZOFFSETFROM:+0200
TZOFFSETTO:+0100
TZNAME:CET
DTSTART:20231029T010000
END:STANDARD
BEGIN:DAYLIGHT
TZOFFSETFROM:+0100
TZOFFSETTO:+0200
TZNAME:CEST
DTSTART:20240331T010000
END:DAYLIGHT
BEGIN:STANDARD
TZOFFSETFROM:+0200
TZOFFSETTO:+0100
TZNAME:CET
DTSTART:20241027T010000
END:STANDARD
BEGIN:DAYLIGHT
TZOFFSETFROM:+0100
TZOFFSETTO:+0200
TZNAME:CEST
DTSTART:20250330T010000
END:DAYLIGHT
BEGIN:STANDARD
TZOFFSETFROM:+0200
TZOFFSETTO:+0100
TZNAME:CET
DTSTART:20251026T010000
END:STANDARD
END:VTIMEZONE
BEGIN:VEVENT
DTSTART;TZID=Europe/Berlin:20240626T180000
DTEND;TZID=Europe/Berlin:20240626T200000
DTSTAMP:20260420T092021
CREATED:20240603T131830Z
LAST-MODIFIED:20240603T131830Z
UID:4432-1719424800-1719432000@reichenhaller-unternehmerforum.de
SUMMARY:2. BRM-Fachbeirat Sitzung
DESCRIPTION:Mitglieder im Tourismus-Beirat der BRM sind herzlich eingeladen: \n\nOberbürgermeister Dr. Christoph Lung\nThomas Gleinig (RUFO – 1. Fachgruppensprecher Handel)\nStefan Hagn (RUFO – 1. Fachgruppensprecher Tourismus)\nOliver Juhasz (Einzelhandel)\nDr. Manfred Zeiner (externer Vertreter Tourismuswirtschaft)\nOliver Schmid-Falter (Gesundheitstourismus)\nKlaus Unterharnscheidt (Ausflugsziele)\nDr. Johannes Lang (Kultur und Heimatpflege)\nDr. Andreas Färber (Tourismus Bayerisch Gmain)\nMartin Schoberth (CSU)\nFriedrich Hötzendorfer (FWG)\nDr. Herbert Lackner (Liste Lackner)\nMonika Tauber-Spring (Bürgerliste Reichenhall)\nMichael Nürbauer (Grüne-SPD)\n\nGeladene Gäste: \n\nUrsula Friedsam (BRM)\nDirk Sasse (Staatsbad GmbH)
URL:https://reichenhaller-unternehmerforum.de/event/2-brm-fachbeirat-sitzung/
LOCATION:Rathaus\, Rathausplatz 1\, Bad Reichenhall\, 83435\, Deutschland
END:VEVENT
END:VCALENDAR