BEGIN:VCALENDAR
VERSION:2.0
PRODID:-//Rufo - ECPv6.15.7//NONSGML v1.0//EN
CALSCALE:GREGORIAN
METHOD:PUBLISH
X-WR-CALNAME:Rufo
X-ORIGINAL-URL:https://reichenhaller-unternehmerforum.de
X-WR-CALDESC:Veranstaltungen für Rufo
REFRESH-INTERVAL;VALUE=DURATION:PT1H
X-Robots-Tag:noindex
X-PUBLISHED-TTL:PT1H
BEGIN:VTIMEZONE
TZID:Europe/Berlin
BEGIN:DAYLIGHT
TZOFFSETFROM:+0100
TZOFFSETTO:+0200
TZNAME:CEST
DTSTART:20230326T010000
END:DAYLIGHT
BEGIN:STANDARD
TZOFFSETFROM:+0200
TZOFFSETTO:+0100
TZNAME:CET
DTSTART:20231029T010000
END:STANDARD
BEGIN:DAYLIGHT
TZOFFSETFROM:+0100
TZOFFSETTO:+0200
TZNAME:CEST
DTSTART:20240331T010000
END:DAYLIGHT
BEGIN:STANDARD
TZOFFSETFROM:+0200
TZOFFSETTO:+0100
TZNAME:CET
DTSTART:20241027T010000
END:STANDARD
BEGIN:DAYLIGHT
TZOFFSETFROM:+0100
TZOFFSETTO:+0200
TZNAME:CEST
DTSTART:20250330T010000
END:DAYLIGHT
BEGIN:STANDARD
TZOFFSETFROM:+0200
TZOFFSETTO:+0100
TZNAME:CET
DTSTART:20251026T010000
END:STANDARD
END:VTIMEZONE
BEGIN:VEVENT
DTSTART;TZID=Europe/Berlin:20240619T163000
DTEND;TZID=Europe/Berlin:20240619T170000
DTSTAMP:20260420T091823
CREATED:20240603T132013Z
LAST-MODIFIED:20240603T132033Z
UID:4434-1718814600-1718816400@reichenhaller-unternehmerforum.de
SUMMARY:Fachgruppe Tourismus - Alpine Pearls
DESCRIPTION:Jedes Mitglied der Fachgruppe Tourismus ist herzlich Willkommen. Wir freuen uns über Euer zahlreiches kommen! \nEs wird über die Mitgliedschaft von Alpine Pearls diskutiert (siehe Protokoll vom 27.03.24); sowie die Gastkarte+
URL:https://reichenhaller-unternehmerforum.de/event/fachgruppe-tourismus-alpine-pearls-2/
LOCATION:AVALON Hotel\, Bahnhofplatz 14\, Bad Reichenhall\, 83435\, Deutschland
END:VEVENT
END:VCALENDAR